{
 "currentVersion": 10.91,
 "serviceDescription": "2003AerialsTiled",
 "mapName": "Layers",
 "description": "",
 "copyrightText": "",
 "supportsDynamicLayers": false,
 "layers": [],
 "tables": [],
 "spatialReference": {
  "wkid": 2883,
  "latestWkid": 2883
 },
 "singleFusedMapCache": true,
 "tileInfo": {
  "rows": 256,
  "cols": 256,
  "dpi": 96,
  "format": "MIXED",
  "compressionQuality": 75,
  "origin": {
   "x": -125939000,
   "y": 164361700
  },
  "spatialReference": {
   "wkid": 2883,
   "latestWkid": 2883
  },
  "lods": [
   {
    "level": 0,
    "resolution": 434.02777777777777,
    "scale": 500000
   },
   {
    "level": 1,
    "resolution": 217.01388888888889,
    "scale": 250000
   },
   {
    "level": 2,
    "resolution": 108.50694444444444,
    "scale": 125000
   },
   {
    "level": 3,
    "resolution": 55.55555555555555,
    "scale": 64000
   },
   {
    "level": 4,
    "resolution": 27.777777777777775,
    "scale": 32000
   },
   {
    "level": 5,
    "resolution": 13.888888888888888,
    "scale": 16000
   },
   {
    "level": 6,
    "resolution": 6.944444444444444,
    "scale": 8000
   },
   {
    "level": 7,
    "resolution": 3.472222222222222,
    "scale": 4000
   },
   {
    "level": 8,
    "resolution": 1.736111111111111,
    "scale": 2000
   },
   {
    "level": 9,
    "resolution": 0.43402777777777773,
    "scale": 500
   },
   {
    "level": 10,
    "resolution": 0.10850694444444443,
    "scale": 125
   }
  ]
 },
 "initialExtent": {
  "xmin": 893141.5025893506,
  "ymin": 499504.9183989789,
  "xmax": 1856683.1692560185,
  "ymax": 886874.7100656461,
  "spatialReference": {
   "wkid": 2883,
   "latestWkid": 2883
  }
 },
 "fullExtent": {
  "xmin": "NaN",
  "ymin": "NaN",
  "xmax": "NaN",
  "ymax": "NaN",
  "spatialReference": {
   "wkid": 2883,
   "latestWkid": 2883
  }
 },
 "minScale": 500000,
 "maxScale": 125,
 "units": "esriFeet",
 "supportedImageFormatTypes": "PNG32,PNG24,PNG,JPG,DIB,TIFF,EMF,PS,PDF,GIF,SVG,SVGZ,BMP",
 "documentInfo": {
  "Title": "",
  "Author": "",
  "Comments": "2003AerialsTiled",
  "Subject": "2003AerialsTiled",
  "Category": "",
  "AntialiasingMode": "None",
  "TextAntialiasingMode": "None",
  "Keywords": "2003AerialsTiled"
 },
 "capabilities": "Map",
 "supportedQueryFormats": "JSON, geoJSON",
 "exportTilesAllowed": false,
 "referenceScale": 0,
 "supportsDatumTransformation": true,
 "maxRecordCount": 1000,
 "maxImageHeight": 4096,
 "maxImageWidth": 4096,
 "supportedExtensions": "",
 "serviceItemId": "e791a37fcfc040e39274da80002bc595"
}
